
BEGIN:VCALENDAR
VERSION:2.0
PRODID:-//OpenNAC Enterprise by Cipherbit - ECPv6.9.1//NONSGML v1.0//EN
CALSCALE:GREGORIAN
METHOD:PUBLISH
X-WR-CALNAME:OpenNAC Enterprise by Cipherbit
X-ORIGINAL-URL:https://www.opencloudfactory.com
X-WR-CALDESC:Eventos para OpenNAC Enterprise by Cipherbit
REFRESH-INTERVAL;VALUE=DURATION:PT1H
X-Robots-Tag:noindex
X-PUBLISHED-TTL:PT1H
BEGIN:VTIMEZONE
TZID:UTC
BEGIN:STANDARD
TZOFFSETFROM:+0000
TZOFFSETTO:+0000
TZNAME:UTC
DTSTART:20230101T000000
END:STANDARD
END:VTIMEZONE
BEGIN:VEVENT
DTSTART;TZID=UTC:20231128T080000
DTEND;TZID=UTC:20231130T170000
DTSTAMP:20260421T161336
CREATED:20230919T135910Z
LAST-MODIFIED:20231123T102431Z
UID:27485-1701158400-1701363600@www.opencloudfactory.com
SUMMARY:XVII Jornadas STIC CCN-CERT
DESCRIPTION:Desde el 1 de julio de este año\, España preside por quinta vez en su historia el Consejo de la Unión Europea. Estamos\, por tanto\, ante una magnífica oportunidad para visibilizar cómo hemos adquirido y evolucionado nuestras capacidades en materia de ciberseguridad y cómo nuestro país ha logrado convertirse en un referente internacional. Por ello\, para el Centro Criptológico Nacional y para el sector de la ciberseguridad nacional es especialmente relevante que la presidencia española coincida con la celebración de la decimoséptima edición del mayor evento de ciberseguridad celebrado en nuestro país: las Jornadas STIC CCN-CERT que tendrán lugar\, en Madrid\, del 28 al 30 de noviembre. \nComo resultado\, la participación y asistencia a estas Jornadas será todavía más extensiva e internacional. Al público habitual de este encuentro —sector público español e iberoamericano\, empresas líderes del sector y ámbito universitario— se sumará una importante representación de organismos de la UE y profesionales europeos. \nLas XVII Jornadas STIC CCN-CERT y V Jornadas de Ciberdefensa ESPDEF-CERT serán un escenario idóneo para proyectar a nivel europeo el modelo español de gobernanza de la ciberseguridad —con el Esquema Nacional de Seguridad como un referente—\, así como las capacidades nacionales de prevención\, protección\, detección y respuesta. Para ello\, las Jornadas ofrecerán un amplio programa de actividades que permitirán compartir con nuestros homólogos las experiencias\, análisis\, estudios e investigaciones nacionales en asuntos de primer orden para la ciberseguridad europea\, como pueden ser las tendencias y evolución de las ciberamenazas\, el desarrollo de Centros de Operaciones de Ciberseguridad\, el panorama del 5G y la Inteligencia Artificial\, las operaciones militares en el ciberespacio\, la certificación de productos o el progreso de las tecnologías cuánticas. \nEsta nueva edición del mayor evento de ciberseguridad de España se celebra bajo el lema “Compartir para ganar” porque son la colaboración y la cooperación los valores esenciales que motivan su celebración. Estos son también los principios bajo los que se enmarca el desarrollo de múltiples iniciativas lideradas por el CCN\, orientadas a la coordinación del intercambio de información técnica sobre ciberamenazas. En este sentido\, el despliegue de la Red Nacional de Centros de Operaciones de Ciberseguridad (SOC) es solo uno de los proyectos desarrollados por el CCN que ya ha despertado interés en la Comisión para abordar su puesta en marcha a nivel europeo. \nCon la celebración de estas Jornadas STIC CCN-CERT\, España liderará a nivel internacional el impulso a la colaboración y el intercambio de información en materia de ciberseguridad. Contamos con su participación para lograrlo. \n  \nOpen Cloud Factory patrocina por 6º año consecutivo el evento de referencia de la ciberseguridad española. Un evento que concentra a las más destacas empresas nacionales e internacionales y que significan mucho para Open Cloud Factory por su relación con el organizador del evento.
URL:https://www.opencloudfactory.com/evento/xvii-jornadas-stic-ccn-cert/
LOCATION:Kinépolis – Ciudad de la Imagen\, C/ Edgar Neville\, s/n - 28223 Pozuelo de Alarcón\, Pozuelo de Alarcón\, Madrid\, 28223\, España
CATEGORIES:Empresa expositora
ATTACH;FMTTYPE=image/png:https://www.opencloudfactory.com/wp-content/uploads/2023/09/xvii-jornadas-stic-ccn-cert-1.png
END:VEVENT
END:VCALENDAR