
BEGIN:VCALENDAR
VERSION:2.0
PRODID:-//OpenNAC Enterprise by Cipherbit - ECPv6.9.1//NONSGML v1.0//EN
CALSCALE:GREGORIAN
METHOD:PUBLISH
X-WR-CALNAME:OpenNAC Enterprise by Cipherbit
X-ORIGINAL-URL:https://www.opencloudfactory.com
X-WR-CALDESC:Eventos para OpenNAC Enterprise by Cipherbit
REFRESH-INTERVAL;VALUE=DURATION:PT1H
X-Robots-Tag:noindex
X-PUBLISHED-TTL:PT1H
BEGIN:VTIMEZONE
TZID:UTC
BEGIN:STANDARD
TZOFFSETFROM:+0000
TZOFFSETTO:+0000
TZNAME:UTC
DTSTART:20230101T000000
END:STANDARD
END:VTIMEZONE
BEGIN:VEVENT
DTSTART;TZID=UTC:20230926T090000
DTEND;TZID=UTC:20230927T170000
DTSTAMP:20260421T190022
CREATED:20230919T112034Z
LAST-MODIFIED:20231123T102448Z
UID:27434-1695718800-1695834000@www.opencloudfactory.com
SUMMARY:Cyber Expo London 2023
DESCRIPTION:  \nOpen Cloud Factory ha sido seleccionada por INCIBE para formar parte de la delegación española en este evento enfocado en la ciberseguridad y que tiene lugar cada año en Londres en el mes de septiembre. El evento acoge a más 175 empresas expositoras de todo el mundo\, convirtiendo el evento en un acontecimiento destacado del panorama de la ciberseguridad internacional.
URL:https://www.opencloudfactory.com/evento/cyber-expo-london-2023/
LOCATION:Olympia London\, Hammersmith Rd\, London W14 8UX\, Reino Unido\, Londres\, Reino Unido
CATEGORIES:Empresa expositora
ATTACH;FMTTYPE=image/webp:https://www.opencloudfactory.com/wp-content/uploads/2023/09/logo_exhibitor_default.webp
END:VEVENT
END:VCALENDAR